Workbook

Sheet Données
A1: Solde au 31/12/2023 | C1: 5179.55
A2: Solde au 31/12/2024 | C2: =6646.06+3.33 -> 6649.39
A4: Date | B4: Libellé | C4: Catégorie | D4: Débit | E4: Crédit | F4: Commentaire
A5: 45419 | B5: Prélèvement NVO | C5: Abonnements | D5: 180
A6: 45321 | B6: Virement UD | C6: Cotisations | E6: 546.5
A7: 45370 | B7: Virement UD | C7: Cotisations | E7: 558.74
A8: 45436 | B8: Virement UD | C8: Cotisations | E8: 353.86
A9: 45490 | B9: Virement UD | C9: Cotisations | E9: 558.74
A10: 45555 | B10: Virement UD | C10: Cotisations | E10: 570.26
A11: 45614 | B11: Virement UD | C11: Cotisations | E11: 540.74
A12: 45595 | B12: Participation travaux toiture UD | C12: Dons/solidarité | D12: 250
A13: 45299 | B13: Facture Crédit Agricole | C13: Frais bancaires | D13: 3.19
A14: 45328 | B14: Facture Crédit Agricole | C14: Frais bancaires | D14: 3.19
A15: 45357 | B15: Facture Crédit Agricole | C15: Frais bancaires | D15: 3.19
A16: 45390 | B16: Facture Crédit Agricole | C16: Frais bancaires | D16: 3.19
A17: 45418 | B17: Facture Crédit Agricole | C17: Frais bancaires | D17: 3.33
A18: 45449 | B18: Facture Crédit Agricole | C18: Frais bancaires | D18: 3.33
A19: 45481 | B19: Facture Crédit Agricole | C19: Frais bancaires | D19: 3.33
A20: 45510 | B20: Facture Crédit Agricole | C20: Frais bancaires | D20: 3.33
A21: 45541 | B21: Facture Crédit Agricole | C21: Frais bancaires | D21: 3.33
A22: 45572 | B22: Facture Crédit Agricole | C22: Frais bancaires | D22: 3.33
A23: 45602 | B23: Facture Crédit Agricole | C23: Frais bancaires | D23: 3.33
... A36: 45355 | B36: Frais déplacement/repas | C36: Frais déplacement/repas | D36: 58.5
A37: 45359 | B37: Frais déplacement/repas | C37: Frais déplacement/repas | D37: 15 | F37: objet chèque à vérifier
A38: 45362 | B38: Frais déplacement/repas | C38: Frais déplacement/repas | D38: 16.5
A39: 45362 | B39: Frais déplacement/repas | C39: Frais déplacement/repas | D39: 20
A40: 45362 | B40: Frais déplacement/repas | C40: Frais déplacement/repas | D40: 22.5
A41: 45380 | B41: Frais déplacement/repas | C41: Frais déplacement/repas | D41: 60.5 | F41: objet chèque à vérifier
A42: 45391 | B42: Frais déplacement/repas | C42: Frais déplacement/repas | D42: 11
A43: 45391 | B43: Frais déplacement/repas | C43: Frais déplacement/repas | D43: 57
A44: 45391 | B44: Frais déplacement/repas | C44: Frais déplacement/repas | D44: 14
A45: 45391 | B45: Frais déplacement/repas | C45: Frais déplacement/repas | D45: 14.5
A46: 45391 | B46: Frais déplacement/repas | C46: Frais déplacement/repas | D46: 22.5
A47: 45426 | B47: Frais déplacement/repas | C47: Frais déplacement/repas | D47: 50.5
A48: 45426 | B48: Frais déplacement/repas | C48: Frais déplacement/repas | D48: 16.5
A49: 45426 | B49: Frais déplacement/repas | C49: Frais déplacement/repas | D49: 22
A50: 45426 | B50: Frais déplacement/repas | C50: Frais déplacement/repas | D50: 21
A51: 45426 | B51: Frais déplacement/repas | C51: Frais déplacement/repas | D51: 24.5
A52: 45426 | B52: Frais déplacement/repas | C52: Frais déplacement/repas | D52: 22.5
A53: 45474 | B53: Frais déplacement/repas | C53: Frais déplacement/repas | D53: 14
...

Sheet Recettes 2024
B2: Syndicat CGT du Conseil Départemental de l'Orne
B4: Bilan comptable 2024
B5: Répartition des dépenses et recettes
A10: Dépenses
A11: Catégorie | B11: Montant
A12: Frais bancaires | B12: =SUM(Données!D13:D24) -> 39.4
A13: Frais déplacement/repas | B13: =SUM(Données!D25:D69) -> 1447.6
A14: Dons/solidarité | B14: =Données!D12 -> 250
A15: Abonnements | B15: =Données!D5 -> 180
B16: =SUBTOTAL(109,Tableau2[Montant]) -> 1917

Sheet Depenses 2024
B2: Syndicat CGT du Conseil Départemental de l'Orne
B4: Bilan comptable 2024
B5: Répartition des dépenses et recettes
A10: Recettes
A11: Catégorie | B11: Montant
A12: Cotisations | B12: =SUM(Données!E6:E11) -> 3128.84
A13: Remboursements avances | B13: =Données!E70 -> 258
B14: =SUBTOTAL(109,Tableau39[Montant]) -> 3386.84

Sheet Depenses recettes 2020 2024
B2: Syndicat CGT du Conseil Départemental de l'Orne
B4: Bilan comptable 2024
B5: Evolution des dépenses et recettes
A10: Historique
A11: Année | B11: Dépenses | C11: Recettes
A12: 2020 | B12: 659.86 | C12: 2695.1
A13: 2021 | B13: 837.72 | C13: 3028.9
A14: 2022 | B14: =1575.25 -> 1575.25 | C14: 3028.93
A15: 2023 | B15: =4440.02 -> 4440.02 | C15: =2256.2 -> 2256.2
A16: 2024 | B16: =Tableau1[[#Totals],[Débit]] -> 1917 | C16: =Tableau1[[#Totals],[Crédit]] -> 3386.84
B17: =SUBTOTAL(109,Tableau257[Dépenses]) -> 9429.85 | C17: =SUBTOTAL(109,Tableau257[Recettes]) -> 14395.97

Sheet Resultats 2020 2024
B2: Syndicat CGT du Conseil Départemental de l'Orne
B4: Bilan comptable 2024
B5: Evolution du résultat (recettes - dépenses)
A10: Historique
A11: Année | B11: Résultat
A12: 2020 | B12: 2035.24
A13: 2021 | B13: 2191.21
A14: 2022 | B14: =2638.79-1575.25 -> 1063.54
A15: 2023 | B15: =2256.2-4440.02 -> -2183.82
A16: 2024 | B16: =Tableau1[[#Totals],[Crédit]]-Tableau1[[#Totals],[Débit]] -> 1469.84
B17: =SUBTOTAL(109,Tableau25[Résultat]) -> 4576.01
